BEGIN:VCALENDAR
VERSION:2.0
PRODID:-//New Haven Day School - ECPv6.15.20//NONSGML v1.0//EN
CALSCALE:GREGORIAN
METHOD:PUBLISH
X-WR-CALNAME:New Haven Day School
X-ORIGINAL-URL:https://newhavendayschool.org
X-WR-CALDESC:Events for New Haven Day School
REFRESH-INTERVAL;VALUE=DURATION:PT1H
X-Robots-Tag:noindex
X-PUBLISHED-TTL:PT1H
BEGIN:VTIMEZONE
TZID:America/Chicago
BEGIN:DAYLIGHT
TZOFFSETFROM:-0600
TZOFFSETTO:-0500
TZNAME:CDT
DTSTART:20210314T080000
END:DAYLIGHT
BEGIN:STANDARD
TZOFFSETFROM:-0500
TZOFFSETTO:-0600
TZNAME:CST
DTSTART:20211107T070000
END:STANDARD
BEGIN:DAYLIGHT
TZOFFSETFROM:-0600
TZOFFSETTO:-0500
TZNAME:CDT
DTSTART:20220313T080000
END:DAYLIGHT
BEGIN:STANDARD
TZOFFSETFROM:-0500
TZOFFSETTO:-0600
TZNAME:CST
DTSTART:20221106T070000
END:STANDARD
BEGIN:DAYLIGHT
TZOFFSETFROM:-0600
TZOFFSETTO:-0500
TZNAME:CDT
DTSTART:20230312T080000
END:DAYLIGHT
BEGIN:STANDARD
TZOFFSETFROM:-0500
TZOFFSETTO:-0600
TZNAME:CST
DTSTART:20231105T070000
END:STANDARD
BEGIN:DAYLIGHT
TZOFFSETFROM:-0600
TZOFFSETTO:-0500
TZNAME:CDT
DTSTART:20240310T080000
END:DAYLIGHT
BEGIN:STANDARD
TZOFFSETFROM:-0500
TZOFFSETTO:-0600
TZNAME:CST
DTSTART:20241103T070000
END:STANDARD
END:VTIMEZONE
BEGIN:VEVENT
DTSTART;VALUE=DATE:20230103
DTEND;VALUE=DATE:20230104
DTSTAMP:20260419T184955
CREATED:20221012T153639Z
LAST-MODIFIED:20221012T153639Z
UID:2749-1672704000-1672790399@newhavendayschool.org
SUMMARY:Return to School
DESCRIPTION:
URL:https://newhavendayschool.org/event/return-to-school/
END:VEVENT
BEGIN:VEVENT
DTSTART;TZID=America/Chicago:20221225T094500
DTEND;TZID=America/Chicago:20221225T120000
DTSTAMP:20260419T184955
CREATED:20221012T153612Z
LAST-MODIFIED:20221012T153612Z
UID:2746-1671961500-1671969600@newhavendayschool.org
SUMMARY:Christmas Day
DESCRIPTION:
URL:https://newhavendayschool.org/event/christmas-day/
LOCATION:New Haven UMC\, Tulsa\, Oklahoma
END:VEVENT
BEGIN:VEVENT
DTSTART;VALUE=DATE:20221219
DTEND;VALUE=DATE:20221231
DTSTAMP:20260419T184955
CREATED:20220221T005440Z
LAST-MODIFIED:20221012T153528Z
UID:2609-1671408000-1672444799@newhavendayschool.org
SUMMARY:Christmas Break
DESCRIPTION:
URL:https://newhavendayschool.org/event/christmas-break/
END:VEVENT
BEGIN:VEVENT
DTSTART;VALUE=DATE:20221215
DTEND;VALUE=DATE:20221216
DTSTAMP:20260419T184955
CREATED:20221012T153431Z
LAST-MODIFIED:20221012T153431Z
UID:2744-1671062400-1671148799@newhavendayschool.org
SUMMARY:Red Color Party
DESCRIPTION:During lunch!
URL:https://newhavendayschool.org/event/red-color-party/
END:VEVENT
BEGIN:VEVENT
DTSTART;VALUE=DATE:20221121
DTEND;VALUE=DATE:20221126
DTSTAMP:20260419T184955
CREATED:20221012T153200Z
LAST-MODIFIED:20221012T153200Z
UID:2740-1668988800-1669420799@newhavendayschool.org
SUMMARY:Thanksgiving Break
DESCRIPTION:NO SCHOOL!
URL:https://newhavendayschool.org/event/thanksgiving-break-2/
END:VEVENT
BEGIN:VEVENT
DTSTART;VALUE=DATE:20221117
DTEND;VALUE=DATE:20221118
DTSTAMP:20260419T184955
CREATED:20221012T153122Z
LAST-MODIFIED:20221012T153131Z
UID:2737-1668643200-1668729599@newhavendayschool.org
SUMMARY:Brown Color Party
DESCRIPTION:During lunch!
URL:https://newhavendayschool.org/event/brown-color-party/
END:VEVENT
BEGIN:VEVENT
DTSTART;TZID=America/Chicago:20221030T160000
DTEND;TZID=America/Chicago:20221030T180000
DTSTAMP:20260419T184955
CREATED:20221012T152918Z
LAST-MODIFIED:20221012T152918Z
UID:2735-1667145600-1667152800@newhavendayschool.org
SUMMARY:Fall Festival
DESCRIPTION:New Haven UMC Parking Lot
URL:https://newhavendayschool.org/event/fall-festival/
END:VEVENT
BEGIN:VEVENT
DTSTART;TZID=America/Chicago:20221029T160000
DTEND;TZID=America/Chicago:20221029T160000
DTSTAMP:20260419T184955
CREATED:20220221T005426Z
LAST-MODIFIED:20220513T185137Z
UID:2607-1667059200-1667059200@newhavendayschool.org
SUMMARY:Community Fall Festival
DESCRIPTION:
URL:https://newhavendayschool.org/event/community-fall-festival/
END:VEVENT
BEGIN:VEVENT
DTSTART;VALUE=DATE:20221027
DTEND;VALUE=DATE:20221028
DTSTAMP:20260419T184955
CREATED:20221012T152745Z
LAST-MODIFIED:20221012T152745Z
UID:2733-1666828800-1666915199@newhavendayschool.org
SUMMARY:Orange Color Party
DESCRIPTION:During lunch!
URL:https://newhavendayschool.org/event/orange-color-party/
END:VEVENT
BEGIN:VEVENT
DTSTART;TZID=America/Chicago:20221019T100000
DTEND;TZID=America/Chicago:20221019T100000
DTSTAMP:20260419T184955
CREATED:20221012T152634Z
LAST-MODIFIED:20221012T152634Z
UID:2731-1666173600-1666173600@newhavendayschool.org
SUMMARY:P.A Carmichael's Pumpkin Patch Outing
DESCRIPTION:
URL:https://newhavendayschool.org/event/p-a-carmichaels-pumpkin-patch-outing/
END:VEVENT
BEGIN:VEVENT
DTSTART;VALUE=DATE:20221017
DTEND;VALUE=DATE:20221022
DTSTAMP:20260419T184955
CREATED:20221012T152500Z
LAST-MODIFIED:20221012T153412Z
UID:2729-1665964800-1666396799@newhavendayschool.org
SUMMARY:Fall Break
DESCRIPTION:No school!
URL:https://newhavendayschool.org/event/fall-break-no-school/
END:VEVENT
BEGIN:VEVENT
DTSTART;TZID=America/Chicago:20220823T090000
DTEND;TZID=America/Chicago:20220823T090000
DTSTAMP:20260419T184955
CREATED:20220221T005426Z
LAST-MODIFIED:20220513T185142Z
UID:2606-1661245200-1661245200@newhavendayschool.org
SUMMARY:1st Day for 2022-'23 School Year
DESCRIPTION:
URL:https://newhavendayschool.org/event/1st-day-for-2022-23-school-year/
END:VEVENT
BEGIN:VEVENT
DTSTART;TZID=America/Chicago:20220822T100000
DTEND;TZID=America/Chicago:20220822T110000
DTSTAMP:20260419T184955
CREATED:20220221T005424Z
LAST-MODIFIED:20220725T144846Z
UID:2605-1661162400-1661166000@newhavendayschool.org
SUMMARY:Meet the Teacher Night
DESCRIPTION:
URL:https://newhavendayschool.org/event/meet-the-teacher-night-2/
END:VEVENT
BEGIN:VEVENT
DTSTART;TZID=America/Chicago:20220807T110000
DTEND;TZID=America/Chicago:20220807T110000
DTSTAMP:20260419T184955
CREATED:20220221T005424Z
LAST-MODIFIED:20220513T185150Z
UID:2604-1659870000-1659870000@newhavendayschool.org
SUMMARY:VBS Sunday
DESCRIPTION:
URL:https://newhavendayschool.org/event/vbs-sunday/
END:VEVENT
BEGIN:VEVENT
DTSTART;TZID=America/Chicago:20220801T170000
DTEND;TZID=America/Chicago:20220804T193000
DTSTAMP:20260419T184955
CREATED:20220221T005424Z
LAST-MODIFIED:20220513T185155Z
UID:2603-1659373200-1659641400@newhavendayschool.org
SUMMARY:Vacation Bible School
DESCRIPTION:
URL:https://newhavendayschool.org/event/vacation-bible-school/
END:VEVENT
BEGIN:VEVENT
DTSTART;VALUE=DATE:20220727
DTEND;VALUE=DATE:20220728
DTSTAMP:20260419T184955
CREATED:20220513T185612Z
LAST-MODIFIED:20220725T144714Z
UID:2720-1658880000-1658966399@newhavendayschool.org
SUMMARY:"Drive In" Movie
DESCRIPTION:
URL:https://newhavendayschool.org/event/water-day-2/
END:VEVENT
BEGIN:VEVENT
DTSTART;VALUE=DATE:20220705
DTEND;VALUE=DATE:20220706
DTSTAMP:20260419T184955
CREATED:20220513T185523Z
LAST-MODIFIED:20220513T185523Z
UID:2718-1656979200-1657065599@newhavendayschool.org
SUMMARY:First Day of July session
DESCRIPTION:
URL:https://newhavendayschool.org/event/first-day-of-july-session/
END:VEVENT
BEGIN:VEVENT
DTSTART;TZID=America/Chicago:20220704T100000
DTEND;TZID=America/Chicago:20220704T100000
DTSTAMP:20260419T184955
CREATED:20220221T005404Z
LAST-MODIFIED:20220513T190014Z
UID:2602-1656928800-1656928800@newhavendayschool.org
SUMMARY:4th of July Community Bike Parade
DESCRIPTION:
URL:https://newhavendayschool.org/event/4th-of-july-community-bike-parade/
END:VEVENT
BEGIN:VEVENT
DTSTART;VALUE=DATE:20220629
DTEND;VALUE=DATE:20220630
DTSTAMP:20260419T184955
CREATED:20220513T184606Z
LAST-MODIFIED:20220513T184606Z
UID:2701-1656460800-1656460800@newhavendayschool.org
SUMMARY:Water Day
DESCRIPTION:
URL:https://newhavendayschool.org/event/water-day/
END:VEVENT
BEGIN:VEVENT
DTSTART;TZID=America/Chicago:20220607T090000
DTEND;TZID=America/Chicago:20220607T090000
DTSTAMP:20260419T184955
CREATED:20220221T005404Z
LAST-MODIFIED:20220513T185446Z
UID:2601-1654592400-1654592400@newhavendayschool.org
SUMMARY:1st Day of June Session
DESCRIPTION:
URL:https://newhavendayschool.org/event/1st-day-of-june-session/
END:VEVENT
BEGIN:VEVENT
DTSTART;TZID=America/Chicago:20220606T100000
DTEND;TZID=America/Chicago:20220606T110000
DTSTAMP:20260419T184955
CREATED:20220221T005403Z
LAST-MODIFIED:20220513T185908Z
UID:2600-1654509600-1654513200@newhavendayschool.org
SUMMARY:Meet the Teacher
DESCRIPTION:Meet the teacher and popsicles on the playground!
URL:https://newhavendayschool.org/event/meet-the-teacher-night/
END:VEVENT
BEGIN:VEVENT
DTSTART;TZID=America/Chicago:20220416T100000
DTEND;TZID=America/Chicago:20220416T100000
DTSTAMP:20260419T184955
CREATED:20220221T005403Z
LAST-MODIFIED:20220513T185453Z
UID:2599-1650103200-1650103200@newhavendayschool.org
SUMMARY:Community Easter Egg Hunt
DESCRIPTION:
URL:https://newhavendayschool.org/event/community-easter-egg-hunt/
END:VEVENT
BEGIN:VEVENT
DTSTART;TZID=America/Chicago:20220216T000000
DTEND;TZID=America/Chicago:20220216T000000
DTSTAMP:20260419T184955
CREATED:20220221T005403Z
LAST-MODIFIED:20220513T185457Z
UID:2598-1644969600-1644969600@newhavendayschool.org
SUMMARY:Enrollment Opens
DESCRIPTION:
URL:https://newhavendayschool.org/event/enrollment-opens/
END:VEVENT
END:VCALENDAR